BEGIN:VCALENDAR
VERSION:2.0
PRODID:-//Sunbeam Car Club Victoria - ECPv6.15.20//NONSGML v1.0//EN
CALSCALE:GREGORIAN
METHOD:PUBLISH
X-WR-CALNAME:Sunbeam Car Club Victoria
X-ORIGINAL-URL:https://sunbeamcarclubvictoria.com.au
X-WR-CALDESC:Events for Sunbeam Car Club Victoria
REFRESH-INTERVAL;VALUE=DURATION:PT1H
X-Robots-Tag:noindex
X-PUBLISHED-TTL:PT1H
BEGIN:VTIMEZONE
TZID:Australia/Melbourne
BEGIN:STANDARD
TZOFFSETFROM:+1100
TZOFFSETTO:+1000
TZNAME:AEST
DTSTART:20250405T160000
END:STANDARD
BEGIN:DAYLIGHT
TZOFFSETFROM:+1000
TZOFFSETTO:+1100
TZNAME:AEDT
DTSTART:20251004T160000
END:DAYLIGHT
BEGIN:STANDARD
TZOFFSETFROM:+1100
TZOFFSETTO:+1000
TZNAME:AEST
DTSTART:20260404T160000
END:STANDARD
BEGIN:DAYLIGHT
TZOFFSETFROM:+1000
TZOFFSETTO:+1100
TZNAME:AEDT
DTSTART:20261003T160000
END:DAYLIGHT
BEGIN:STANDARD
TZOFFSETFROM:+1100
TZOFFSETTO:+1000
TZNAME:AEST
DTSTART:20270403T160000
END:STANDARD
BEGIN:DAYLIGHT
TZOFFSETFROM:+1000
TZOFFSETTO:+1100
TZNAME:AEDT
DTSTART:20271002T160000
END:DAYLIGHT
END:VTIMEZONE
BEGIN:VEVENT
DTSTART;TZID=Australia/Melbourne:20260419T083000
DTEND;TZID=Australia/Melbourne:20260419T160000
DTSTAMP:20260419T220855
CREATED:20260322T064545Z
LAST-MODIFIED:20260322T064545Z
UID:4703-1776587400-1776614400@sunbeamcarclubvictoria.com.au
SUMMARY:Highball Goes Country 2026
DESCRIPTION:Pack your picnic gear\, bring the family and enjoy local food and coffee amidst the brilliant autumn colours. Donations at the gate go to local Buxton\, Taggerty and Acheron CFAs. No need to book or reserve a spot. Just turn up and leave as you wish along one of the most stunning driveways in the region. Plenty of food and coffee supplied by Grant St Grocer and Marysville Lion Club. There will also be entertainment to enjoy while you peruse the hundreds of cars\, bikes\, trucks and more! Thanks to Penrite\, RPM Hire and AgPower for supporting this charity event. So start preparing your unique\, quirky\, classic or modern vehicle and take it for a proper run through the wide open roads of our wonderful autumn colours.
URL:https://sunbeamcarclubvictoria.com.au/index.php/event/highball-goes-country-2026/
LOCATION:Erindale Hayshed\, 2655 Maroondah Highway\, Taggerty\, Victoria\, Australia
CATEGORIES:Club Event,Local Community Event,Regional Victoria
ATTACH;FMTTYPE=image/jpeg:https://sunbeamcarclubvictoria.com.au/wp-content/uploads/2026/03/highball26.jpg
END:VEVENT
BEGIN:VEVENT
DTSTART;TZID=Australia/Melbourne:20260315T070000
DTEND;TZID=Australia/Melbourne:20260316T140000
DTSTAMP:20260419T220855
CREATED:20260121T070041Z
LAST-MODIFIED:20260124T052601Z
UID:4539-1773558000-1773669600@sunbeamcarclubvictoria.com.au
SUMMARY:Leongatha Show and Shine
DESCRIPTION:The Sunbeam Car Club of Victoria has attended this event in the past.\nThe show provides a diverse range of vehicles and a swap meet as a bonus.
URL:https://sunbeamcarclubvictoria.com.au/index.php/event/leongatha-show-and-shine/
LOCATION:Leongatha Recreation Reserve\, Leongatha Recreation Reserve Roughead Street\, Leongatha\, Leongatha\, Victoria\, 3953\, Australia
CATEGORIES:General Event,Local Community Event,Non-Club Event,Regional Victoria
ATTACH;FMTTYPE=image/jpeg:https://sunbeamcarclubvictoria.com.au/wp-content/uploads/2026/01/leongatha25.jpeg
END:VEVENT
END:VCALENDAR