BEGIN:VCALENDAR
VERSION:2.0
PRODID:-//Sunbeam Car Club Victoria - ECPv6.15.20//NONSGML v1.0//EN
CALSCALE:GREGORIAN
METHOD:PUBLISH
X-ORIGINAL-URL:https://sunbeamcarclubvictoria.com.au
X-WR-CALDESC:Events for Sunbeam Car Club Victoria
REFRESH-INTERVAL;VALUE=DURATION:PT1H
X-Robots-Tag:noindex
X-PUBLISHED-TTL:PT1H
BEGIN:VTIMEZONE
TZID:Australia/Melbourne
BEGIN:STANDARD
TZOFFSETFROM:+1100
TZOFFSETTO:+1000
TZNAME:AEST
DTSTART:20250405T160000
END:STANDARD
BEGIN:DAYLIGHT
TZOFFSETFROM:+1000
TZOFFSETTO:+1100
TZNAME:AEDT
DTSTART:20251004T160000
END:DAYLIGHT
BEGIN:STANDARD
TZOFFSETFROM:+1100
TZOFFSETTO:+1000
TZNAME:AEST
DTSTART:20260404T160000
END:STANDARD
BEGIN:DAYLIGHT
TZOFFSETFROM:+1000
TZOFFSETTO:+1100
TZNAME:AEDT
DTSTART:20261003T160000
END:DAYLIGHT
BEGIN:STANDARD
TZOFFSETFROM:+1100
TZOFFSETTO:+1000
TZNAME:AEST
DTSTART:20270403T160000
END:STANDARD
BEGIN:DAYLIGHT
TZOFFSETFROM:+1000
TZOFFSETTO:+1100
TZNAME:AEDT
DTSTART:20271002T160000
END:DAYLIGHT
END:VTIMEZONE
BEGIN:VEVENT
DTSTART;VALUE=DATE:20260418
DTEND;VALUE=DATE:20260420
DTSTAMP:20260419T220555
CREATED:20260322T031807Z
LAST-MODIFIED:20260403T021237Z
UID:4691-1776470400-1776643199@sunbeamcarclubvictoria.com.au
SUMMARY:Marysville Meander Weekend
DESCRIPTION:m \nJoin us on a relaxed and enjoyable weekend of motoring and sightseeing\, including a night in the picturesque Marysville and particifation in a modrn and classic vehicle motoring display to raise fund to support the local CFA after the recent Longwood bush fires. \nRendezvous point will be the Croydon McDonalds on Saturday 18th May at 10:30am\n101 Maroondah Hwy\, Croydon VIC 3136 \nRecommended Accomodation in Marysville:-\nTower Motel – 33 Murchinson Street\, Marysville\, VIC \nTo book call Kam 0438773282 or 03 5963 3225  Tell him your with the Sunbeam Car Club of Victoria for a flat rate of around $180.00 \n  \n 
URL:https://sunbeamcarclubvictoria.com.au/index.php/event/marysville-meander-weekend/
LOCATION:Erindale Hayshed\, 2655 Maroondah Highway\, Taggerty\, Victoria\, Australia
CATEGORIES:Club Event,Regional Victoria
ATTACH;FMTTYPE=image/jpeg:https://sunbeamcarclubvictoria.com.au/wp-content/uploads/2026/03/ChatGPT-Image-Mar-22-2026-02_16_10-PM.jpg
END:VEVENT
BEGIN:VEVENT
DTSTART;TZID=Australia/Melbourne:20260517T083000
DTEND;TZID=Australia/Melbourne:20260517T140000
DTSTAMP:20260419T220555
CREATED:20260104T044358Z
LAST-MODIFIED:20260322T070145Z
UID:4522-1779006600-1779026400@sunbeamcarclubvictoria.com.au
SUMMARY:National Motor Heritage Day
DESCRIPTION:2026 National Motor Heritage Day\nTo celebrate National Motor Heritage Day\, the SCCV will have a Mystery Run where we will share in a fantastic lunch. \nMembers have the option of starting the drive at a location to be confirmed.  Meeting time is 8:30 am with a departure time of 9:00 am.\nWe will travel along some scenic roads to our first stop at 10:30 am\, where we will have morning tea.\nAfter morning tea\, we will drive to our final destination. \nWhats on the Calendar \n  \n 
URL:https://sunbeamcarclubvictoria.com.au/index.php/event/national-motor-heritage-day/
LOCATION:Victoria
CATEGORIES:Club Event,General Event
ATTACH;FMTTYPE=image/jpeg:https://sunbeamcarclubvictoria.com.au/wp-content/uploads/2026/01/ChatGPT-Image-Mar-22-2026-05_59_20-PM.jpg
END:VEVENT
BEGIN:VEVENT
DTSTART;TZID=Australia/Melbourne:20260527T200000
DTEND;TZID=Australia/Melbourne:20260527T220000
DTSTAMP:20260419T220555
CREATED:20260403T021633Z
LAST-MODIFIED:20260403T021826Z
UID:4731-1779912000-1779919200@sunbeamcarclubvictoria.com.au
SUMMARY:SCCV General Club Meeting
DESCRIPTION:Sunbeam Beam Car Club of Victoria General Club Meeting \nBox Hill RSL
URL:https://sunbeamcarclubvictoria.com.au/index.php/event/sccv-general-club-meeting/
LOCATION:Box Hill RSL\, 26-28 Nelson Road\, Box Hill\, Victoria\, 3128\, Australia
CATEGORIES:Club Event,Club General Meeting
ATTACH;FMTTYPE=image/jpeg:https://sunbeamcarclubvictoria.com.au/wp-content/uploads/2024/07/SCCVStdLogo.jpg
END:VEVENT
BEGIN:VEVENT
DTSTART;VALUE=DATE:20260911
DTEND;VALUE=DATE:20260914
DTSTAMP:20260419T220555
CREATED:20260104T050337Z
LAST-MODIFIED:20260104T050715Z
UID:4528-1789084800-1789343999@sunbeamcarclubvictoria.com.au
SUMMARY:48th Sunbeam National Meeting
DESCRIPTION:Sunbeam 2026 National Booking Form \n  \n  \n 
URL:https://sunbeamcarclubvictoria.com.au/index.php/event/48th-sunbeam-national-meeting/
LOCATION:Foster NSW\, 14-15 Head Street\, Foster\, New South Wales\, 2428\, Australia
CATEGORIES:Club Event
ATTACH;FMTTYPE=image/png:https://sunbeamcarclubvictoria.com.au/wp-content/uploads/2025/12/Sunbeam-Owners-Club-of-NSW.png
END:VEVENT
END:VCALENDAR